BEGIN:VCALENDAR
VERSION:2.0
PRODID:spatie/icalendar-generator
BEGIN:VTIMEZONE
TZID:UTC
BEGIN:STANDARD
DTSTART:20250725T125603
TZOFFSETFROM:+0000
TZOFFSETTO:+0000
END:STANDARD
END:VTIMEZONE
BEGIN:VEVENT
UID:69e773e3dcf5b
DTSTAMP:20260421T125603Z
SUMMARY:Café Colibri - Deutsch sprechen für Frauen 
DTSTART:20260617T090000Z
DTEND:20260617T090000Z
END:VEVENT
END:VCALENDAR