BEGIN:VCALENDAR
VERSION:2.0
PRODID:spatie/icalendar-generator
BEGIN:VTIMEZONE
TZID:UTC
BEGIN:STANDARD
DTSTART:20250725T113214
TZOFFSETFROM:+0000
TZOFFSETTO:+0000
END:STANDARD
END:VTIMEZONE
BEGIN:VEVENT
UID:69e7603e3bbc1
DTSTAMP:20260421T113214Z
SUMMARY:Café littéraire | Agnès Desarthe : L'Oreille absolue
DTSTART:20260521T160000Z
DTEND:20260521T173000Z
END:VEVENT
END:VCALENDAR