BEGIN:VCALENDAR
VERSION:2.0
PRODID:spatie/icalendar-generator
BEGIN:VTIMEZONE
TZID:UTC
BEGIN:STANDARD
DTSTART:20250725T112245
TZOFFSETFROM:+0000
TZOFFSETTO:+0000
END:STANDARD
END:VTIMEZONE
BEGIN:VEVENT
UID:69e75e050be62
DTSTAMP:20260421T112245Z
SUMMARY:After-Traditionsspiel-Party
DTSTART:20260509T160000Z
DTEND:20260509T160000Z
END:VEVENT
END:VCALENDAR