BEGIN:VCALENDAR
VERSION:2.0
PRODID:spatie/icalendar-generator
BEGIN:VTIMEZONE
TZID:UTC
BEGIN:STANDARD
DTSTART:20250725T113214
TZOFFSETFROM:+0000
TZOFFSETTO:+0000
END:STANDARD
END:VTIMEZONE
BEGIN:VEVENT
UID:69e7603ebd4e7
DTSTAMP:20260421T113214Z
SUMMARY:Traditionsspiel SKV Sandhofen AH ./. Schalke All Stars
DTSTART:20260509T130000Z
DTEND:20260509T130000Z
END:VEVENT
END:VCALENDAR