BEGIN:VCALENDAR
VERSION:2.0
PRODID:spatie/icalendar-generator
BEGIN:VTIMEZONE
TZID:UTC
BEGIN:STANDARD
DTSTART:20250725T113304
TZOFFSETFROM:+0000
TZOFFSETTO:+0000
END:STANDARD
END:VTIMEZONE
BEGIN:VEVENT
UID:69e7607087a8f
DTSTAMP:20260421T113304Z
SUMMARY:Credo·Collab Song Contest Finale
DTSTART:20260425T170000Z
DTEND:20260425T193000Z
END:VEVENT
END:VCALENDAR