BEGIN:VCALENDAR
VERSION:2.0
PRODID:spatie/icalendar-generator
BEGIN:VTIMEZONE
TZID:UTC
BEGIN:STANDARD
DTSTART:20250725T112156
TZOFFSETFROM:+0000
TZOFFSETTO:+0000
END:STANDARD
END:VTIMEZONE
BEGIN:VEVENT
UID:69e75dd4c940e
DTSTAMP:20260421T112156Z
SUMMARY:Hozan Kawa
DTSTART:20260605T180000Z
DTEND:20260605T180000Z
END:VEVENT
END:VCALENDAR