BEGIN:VCALENDAR
VERSION:2.0
PRODID:spatie/icalendar-generator
BEGIN:VTIMEZONE
TZID:UTC
BEGIN:STANDARD
DTSTART:20250725T113207
TZOFFSETFROM:+0000
TZOFFSETTO:+0000
END:STANDARD
END:VTIMEZONE
BEGIN:VEVENT
UID:69e7603799856
DTSTAMP:20260421T113207Z
SUMMARY:Roberto Capitoni - 60 ist das neue 40
DTSTART:20270306T190000Z
DTEND:20270306T190000Z
END:VEVENT
END:VCALENDAR