BEGIN:VCALENDAR
VERSION:2.0
PRODID:spatie/icalendar-generator
BEGIN:VTIMEZONE
TZID:UTC
BEGIN:STANDARD
DTSTART:20250725T113214
TZOFFSETFROM:+0000
TZOFFSETTO:+0000
END:STANDARD
END:VTIMEZONE
BEGIN:VEVENT
UID:69e7603e3b9f8
DTSTAMP:20260421T113214Z
SUMMARY:Roberto Capitoni - 60 ist das neue 40
DTSTART:20261127T190000Z
DTEND:20261127T190000Z
END:VEVENT
END:VCALENDAR