BEGIN:VCALENDAR
VERSION:2.0
PRODID:spatie/icalendar-generator
BEGIN:VTIMEZONE
TZID:UTC
BEGIN:STANDARD
DTSTART:20250725T135905
TZOFFSETFROM:+0000
TZOFFSETTO:+0000
END:STANDARD
END:VTIMEZONE
BEGIN:VEVENT
UID:69e782a98eb25
DTSTAMP:20260421T135905Z
SUMMARY:Tanz am Platz
DTSTART:20260620T080000Z
DTEND:20260620T090000Z
END:VEVENT
END:VCALENDAR