BEGIN:VCALENDAR
VERSION:2.0
PRODID:spatie/icalendar-generator
BEGIN:VTIMEZONE
TZID:UTC
BEGIN:STANDARD
DTSTART:20250725T152703
TZOFFSETFROM:+0000
TZOFFSETTO:+0000
END:STANDARD
END:VTIMEZONE
BEGIN:VEVENT
UID:69e797479ba62
DTSTAMP:20260421T152703Z
SUMMARY:Tanz am Platz
DTSTART:20260606T080000Z
DTEND:20260606T090000Z
END:VEVENT
END:VCALENDAR