BEGIN:VCALENDAR
VERSION:2.0
PRODID:spatie/icalendar-generator
BEGIN:VTIMEZONE
TZID:UTC
BEGIN:STANDARD
DTSTART:20250725T153556
TZOFFSETFROM:+0000
TZOFFSETTO:+0000
END:STANDARD
END:VTIMEZONE
BEGIN:VEVENT
UID:69e7995ce889f
DTSTAMP:20260421T153556Z
SUMMARY:Tanz am Platz
DTSTART:20260523T080000Z
DTEND:20260523T090000Z
END:VEVENT
END:VCALENDAR