BEGIN:VCALENDAR
VERSION:2.0
PRODID:spatie/icalendar-generator
BEGIN:VTIMEZONE
TZID:UTC
BEGIN:STANDARD
DTSTART:20250725T153816
TZOFFSETFROM:+0000
TZOFFSETTO:+0000
END:STANDARD
END:VTIMEZONE
BEGIN:VEVENT
UID:69e799e88991c
DTSTAMP:20260421T153816Z
SUMMARY:Tanz am Platz
DTSTART:20260516T080000Z
DTEND:20260516T090000Z
END:VEVENT
END:VCALENDAR