BEGIN:VCALENDAR
VERSION:2.0
PRODID:spatie/icalendar-generator
BEGIN:VTIMEZONE
TZID:UTC
BEGIN:STANDARD
DTSTART:20250725T153559
TZOFFSETFROM:+0000
TZOFFSETTO:+0000
END:STANDARD
END:VTIMEZONE
BEGIN:VEVENT
UID:69e7995fcc39d
DTSTAMP:20260421T153559Z
SUMMARY:In|Between|Out
DTSTART:20260425T180000Z
DTEND:20260425T200000Z
END:VEVENT
END:VCALENDAR