BEGIN:VCALENDAR
VERSION:2.0
PRODID:spatie/icalendar-generator
BEGIN:VTIMEZONE
TZID:UTC
BEGIN:STANDARD
DTSTART:20250725T152702
TZOFFSETFROM:+0000
TZOFFSETTO:+0000
END:STANDARD
END:VTIMEZONE
BEGIN:VEVENT
UID:69e79746a256f
DTSTAMP:20260421T152702Z
SUMMARY:Bingo für die ganze Familie
DTSTART:20261119T170000Z
DTEND:20261119T170000Z
END:VEVENT
END:VCALENDAR