BEGIN:VCALENDAR
VERSION:2.0
PRODID:spatie/icalendar-generator
BEGIN:VTIMEZONE
TZID:UTC
BEGIN:STANDARD
DTSTART:20250725T153557
TZOFFSETFROM:+0000
TZOFFSETTO:+0000
END:STANDARD
END:VTIMEZONE
BEGIN:VEVENT
UID:69e7995d570f8
DTSTAMP:20260421T153557Z
SUMMARY:Waldbaden im Waldpark Mannheim: Winterbeginn
DTSTART:20261025T090000Z
DTEND:20261025T103000Z
END:VEVENT
END:VCALENDAR