BEGIN:VCALENDAR
VERSION:2.0
PRODID:spatie/icalendar-generator
BEGIN:VTIMEZONE
TZID:UTC
BEGIN:STANDARD
DTSTART:20250725T152702
TZOFFSETFROM:+0000
TZOFFSETTO:+0000
END:STANDARD
END:VTIMEZONE
BEGIN:VEVENT
UID:69e797467bb34
DTSTAMP:20260421T152702Z
SUMMARY:Waldbaden im Waldpark Mannheim: Herbstliebe
DTSTART:20260927T120000Z
DTEND:20260927T133000Z
END:VEVENT
END:VCALENDAR