BEGIN:VCALENDAR
VERSION:2.0
PRODID:spatie/icalendar-generator
BEGIN:VTIMEZONE
TZID:UTC
BEGIN:STANDARD
DTSTART:20250725T152703
TZOFFSETFROM:+0000
TZOFFSETTO:+0000
END:STANDARD
END:VTIMEZONE
BEGIN:VEVENT
UID:69e79747203d0
DTSTAMP:20260421T152703Z
SUMMARY:SUPER SCHWARZES MANNHEIM • 5 Floors
DTSTART:20260905T200000Z
DTEND:20260905T200000Z
END:VEVENT
END:VCALENDAR