BEGIN:VCALENDAR
VERSION:2.0
PRODID:spatie/icalendar-generator
BEGIN:VTIMEZONE
TZID:UTC
BEGIN:STANDARD
DTSTART:20250725T152704
TZOFFSETFROM:+0000
TZOFFSETTO:+0000
END:STANDARD
END:VTIMEZONE
BEGIN:VEVENT
UID:69e79748d3ec5
DTSTAMP:20260421T152704Z
SUMMARY:Waldbaden im Waldpark Mannheim: Summer Special mit Picknick
DTSTART:20260830T080000Z
DTEND:20260830T093000Z
END:VEVENT
END:VCALENDAR