BEGIN:VCALENDAR
VERSION:2.0
PRODID:spatie/icalendar-generator
BEGIN:VTIMEZONE
TZID:UTC
BEGIN:STANDARD
DTSTART:20250725T125726
TZOFFSETFROM:+0000
TZOFFSETTO:+0000
END:STANDARD
END:VTIMEZONE
BEGIN:VEVENT
UID:69e774360f5de
DTSTAMP:20260421T125726Z
SUMMARY:„Geschichten aus dem Wilden Westen“ Lesung im Rahmen der Kultur
 tage mit Erik Hauser und Friedhelm Schneidewind
DTSTART:20260521T160000Z
DTEND:20260521T160000Z
END:VEVENT
END:VCALENDAR