BEGIN:VCALENDAR
VERSION:2.0
PRODID:spatie/icalendar-generator
BEGIN:VTIMEZONE
TZID:UTC
BEGIN:STANDARD
DTSTART:20250725T125742
TZOFFSETFROM:+0000
TZOFFSETTO:+0000
END:STANDARD
END:VTIMEZONE
BEGIN:VEVENT
UID:69e774469a2c1
DTSTAMP:20260421T125742Z
SUMMARY:TOPSY TURVY // SALAMIRECORDER & THE HI-FI PHONOS // Garage Punk Ind
 ie Psychedelia (Wien)
DTSTART:20260508T190000Z
DTEND:20260508T190000Z
END:VEVENT
END:VCALENDAR