BEGIN:VCALENDAR
VERSION:2.0
PRODID:spatie/icalendar-generator
BEGIN:VTIMEZONE
TZID:UTC
BEGIN:STANDARD
DTSTART:20250725T140811
TZOFFSETFROM:+0000
TZOFFSETTO:+0000
END:STANDARD
END:VTIMEZONE
BEGIN:VEVENT
UID:69e784cbaae86
DTSTAMP:20260421T140811Z
SUMMARY:„Geh aus mein Herz und suche Freud!“ Paul Gerhardt und seine Ze
 it Motetten und Neuvertonungen
DTSTART:20260426T150000Z
DTEND:20260426T150000Z
END:VEVENT
END:VCALENDAR