BEGIN:VCALENDAR
VERSION:2.0
PRODID:spatie/icalendar-generator
BEGIN:VTIMEZONE
TZID:UTC
BEGIN:STANDARD
DTSTART:20250725T140724
TZOFFSETFROM:+0000
TZOFFSETTO:+0000
END:STANDARD
END:VTIMEZONE
BEGIN:VEVENT
UID:69e7849c5a320
DTSTAMP:20260421T140724Z
SUMMARY:CYCLING CITIES auf dem Dach vom Parkhaus N2
DTSTART:20260421T181500Z
DTEND:20260421T200000Z
END:VEVENT
END:VCALENDAR