BEGIN:VCALENDAR
VERSION:2.0
PRODID:spatie/icalendar-generator
BEGIN:VTIMEZONE
TZID:UTC
BEGIN:STANDARD
DTSTART:20250725T124847
TZOFFSETFROM:+0000
TZOFFSETTO:+0000
END:STANDARD
END:VTIMEZONE
BEGIN:VEVENT
UID:69e7722f069c3
DTSTAMP:20260421T124847Z
SUMMARY:Tag der Artenvielfalt: Exkursion zu den Feldhamstern
DTSTART:20260613T080000Z
DTEND:20260613T100000Z
END:VEVENT
END:VCALENDAR