BEGIN:VCALENDAR
VERSION:2.0
PRODID:spatie/icalendar-generator
BEGIN:VTIMEZONE
TZID:UTC
BEGIN:STANDARD
DTSTART:20250725T174756
TZOFFSETFROM:+0000
TZOFFSETTO:+0000
END:STANDARD
END:VTIMEZONE
BEGIN:VEVENT
UID:69e7b84ce88f1
DTSTAMP:20260421T174756Z
SUMMARY:Tag der Artenvielfalt: Mehr Grün\, weniger Grau – Ein Stadtteils
 paziergang für Klima & Artenvielfalt 
DTSTART:20260613T070000Z
DTEND:20260613T080000Z
END:VEVENT
END:VCALENDAR