BEGIN:VCALENDAR
VERSION:2.0
PRODID:spatie/icalendar-generator
BEGIN:VTIMEZONE
TZID:UTC
BEGIN:STANDARD
DTSTART:20250725T193957
TZOFFSETFROM:+0000
TZOFFSETTO:+0000
END:STANDARD
END:VTIMEZONE
BEGIN:VEVENT
UID:69e7d28de27bd
DTSTAMP:20260421T193957Z
SUMMARY:Tag der Artenvielfalt: Baumpersönlichkeiten
DTSTART:20260614T130000Z
DTEND:20260614T143000Z
END:VEVENT
END:VCALENDAR