BEGIN:VCALENDAR
VERSION:2.0
PRODID:spatie/icalendar-generator
BEGIN:VTIMEZONE
TZID:UTC
BEGIN:STANDARD
DTSTART:20250725T170308
TZOFFSETFROM:+0000
TZOFFSETTO:+0000
END:STANDARD
END:VTIMEZONE
BEGIN:VEVENT
UID:69e7adcc76209
DTSTAMP:20260421T170308Z
SUMMARY:Tag der Artenvielfalt: Leben im Wasser und am Pfingstbergweiher
DTSTART:20260613T080000Z
DTEND:20260613T110000Z
END:VEVENT
END:VCALENDAR