BEGIN:VCALENDAR
VERSION:2.0
PRODID:spatie/icalendar-generator
BEGIN:VTIMEZONE
TZID:UTC
BEGIN:STANDARD
DTSTART:20250725T210717
TZOFFSETFROM:+0000
TZOFFSETTO:+0000
END:STANDARD
END:VTIMEZONE
BEGIN:VEVENT
UID:69e7e70557f24
DTSTAMP:20260421T210717Z
SUMMARY:Tag der Artenvielfalt: Baumscheiben auf der Rheinau - Grün beginnt
  vor der Haustür
DTSTART:20260613T080000Z
DTEND:20260613T100000Z
END:VEVENT
END:VCALENDAR