BEGIN:VCALENDAR
VERSION:2.0
PRODID:spatie/icalendar-generator
BEGIN:VTIMEZONE
TZID:UTC
BEGIN:STANDARD
DTSTART:20250725T170309
TZOFFSETFROM:+0000
TZOFFSETTO:+0000
END:STANDARD
END:VTIMEZONE
BEGIN:VEVENT
UID:69e7adcd76bb4
DTSTAMP:20260421T170309Z
SUMMARY:Öffentliche Führung durch die NS-Ausstellung
DTSTART:20261011T140000Z
DTEND:20261011T150000Z
END:VEVENT
END:VCALENDAR