BEGIN:VCALENDAR
VERSION:2.0
PRODID:spatie/icalendar-generator
BEGIN:VTIMEZONE
TZID:UTC
BEGIN:STANDARD
DTSTART:20250725T014432
TZOFFSETFROM:+0000
TZOFFSETTO:+0000
END:STANDARD
END:VTIMEZONE
BEGIN:VEVENT
UID:69e6d680a5d4b
DTSTAMP:20260421T014432Z
SUMMARY:\"Mieter\" Ein Stück von Paco Gámez
DTSTART:20260509T180000Z
DTEND:20260509T180000Z
END:VEVENT
END:VCALENDAR