BEGIN:VCALENDAR
VERSION:2.0
PRODID:spatie/icalendar-generator
BEGIN:VTIMEZONE
TZID:UTC
BEGIN:STANDARD
DTSTART:20250725T015011
TZOFFSETFROM:+0000
TZOFFSETTO:+0000
END:STANDARD
END:VTIMEZONE
BEGIN:VEVENT
UID:69e6d7d3c6a7d
DTSTAMP:20260421T015011Z
SUMMARY:Starthilfe - digital dabei: Smartphone-Kurs für Android-Geräte
DTSTART:20260730T080000Z
DTEND:20260730T093000Z
END:VEVENT
END:VCALENDAR