BEGIN:VCALENDAR
VERSION:2.0
PRODID:spatie/icalendar-generator
BEGIN:VTIMEZONE
TZID:UTC
BEGIN:STANDARD
DTSTART:20250725T185454
TZOFFSETFROM:+0000
TZOFFSETTO:+0000
END:STANDARD
END:VTIMEZONE
BEGIN:VEVENT
UID:69e7c7febdd29
DTSTAMP:20260421T185454Z
SUMMARY:SPACESTATION (IS) // Psyche Kraut Shoegaze
DTSTART:20260923T180000Z
DTEND:20260923T180000Z
END:VEVENT
END:VCALENDAR