BEGIN:VCALENDAR
VERSION:2.0
PRODID:spatie/icalendar-generator
BEGIN:VTIMEZONE
TZID:UTC
BEGIN:STANDARD
DTSTART:20250725T083521
TZOFFSETFROM:+0000
TZOFFSETTO:+0000
END:STANDARD
END:VTIMEZONE
BEGIN:VEVENT
UID:69e736c97402e
DTSTAMP:20260421T083521Z
SUMMARY:Grüner Dienstag: Nachhaltig investieren - Gewinn mit Sinn
DTSTART:20260630T150000Z
DTEND:20260630T160000Z
END:VEVENT
END:VCALENDAR