BEGIN:VCALENDAR
VERSION:2.0
PRODID:spatie/icalendar-generator
BEGIN:VTIMEZONE
TZID:UTC
BEGIN:STANDARD
DTSTART:20250725T083521
TZOFFSETFROM:+0000
TZOFFSETTO:+0000
END:STANDARD
END:VTIMEZONE
BEGIN:VEVENT
UID:69e736c946eff
DTSTAMP:20260421T083521Z
SUMMARY:Mannheimer Stadtgeschichten - im Gespräch mit Mehrdad Zaeri
DTSTART:20260618T170000Z
DTEND:20260618T170000Z
END:VEVENT
END:VCALENDAR