BEGIN:VCALENDAR
VERSION:2.0
PRODID:spatie/icalendar-generator
BEGIN:VTIMEZONE
TZID:UTC
BEGIN:STANDARD
DTSTART:20250725T064000
TZOFFSETFROM:+0000
TZOFFSETTO:+0000
END:STANDARD
END:VTIMEZONE
BEGIN:VEVENT
UID:69e71bc02b8fa
DTSTAMP:20260421T064000Z
SUMMARY:Neckarschätze Hofflohmarkt
DTSTART:20260613T090000Z
DTEND:20260613T140000Z
END:VEVENT
END:VCALENDAR