BEGIN:VCALENDAR
VERSION:2.0
PRODID:spatie/icalendar-generator
BEGIN:VTIMEZONE
TZID:UTC
BEGIN:STANDARD
DTSTART:20250725T030619
TZOFFSETFROM:+0000
TZOFFSETTO:+0000
END:STANDARD
END:VTIMEZONE
BEGIN:VEVENT
UID:69e6e9ab1f5ef
DTSTAMP:20260421T030619Z
SUMMARY:Bilderbuchkino und Basteln in Seckenheim
DTSTART:20260609T133000Z
DTEND:20260609T133000Z
END:VEVENT
END:VCALENDAR