BEGIN:VCALENDAR
VERSION:2.0
PRODID:spatie/icalendar-generator
BEGIN:VTIMEZONE
TZID:UTC
BEGIN:STANDARD
DTSTART:20250724T085724
TZOFFSETFROM:+0000
TZOFFSETTO:+0000
END:STANDARD
END:VTIMEZONE
BEGIN:VEVENT
UID:69e5ea7449c83
DTSTAMP:20260420T085724Z
SUMMARY:Meet the Folks
DTSTART:20260619T173000Z
DTEND:20260619T193000Z
END:VEVENT
END:VCALENDAR