BEGIN:VCALENDAR
VERSION:2.0
PRODID:spatie/icalendar-generator
BEGIN:VTIMEZONE
TZID:UTC
BEGIN:STANDARD
DTSTART:20250724T091452
TZOFFSETFROM:+0000
TZOFFSETTO:+0000
END:STANDARD
END:VTIMEZONE
BEGIN:VEVENT
UID:69e5ee8c99a12
DTSTAMP:20260420T091452Z
SUMMARY:Meet the Folks
DTSTART:20260514T173000Z
DTEND:20260514T193000Z
END:VEVENT
END:VCALENDAR