BEGIN:VCALENDAR
VERSION:2.0
PRODID:spatie/icalendar-generator
BEGIN:VTIMEZONE
TZID:UTC
BEGIN:STANDARD
DTSTART:20250724T091546
TZOFFSETFROM:+0000
TZOFFSETTO:+0000
END:STANDARD
END:VTIMEZONE
BEGIN:VEVENT
UID:69e5eec2d6969
DTSTAMP:20260420T091546Z
SUMMARY:Smartphone-Sprechstunde für Senior*innen in Seckenheim
DTSTART:20260610T080000Z
DTEND:20260610T080000Z
END:VEVENT
END:VCALENDAR