BEGIN:VCALENDAR
VERSION:2.0
PRODID:spatie/icalendar-generator
BEGIN:VTIMEZONE
TZID:UTC
BEGIN:STANDARD
DTSTART:20250724T091547
TZOFFSETFROM:+0000
TZOFFSETTO:+0000
END:STANDARD
END:VTIMEZONE
BEGIN:VEVENT
UID:69e5eec32c3b2
DTSTAMP:20260420T091547Z
SUMMARY:GUTS - Feministische Horror-Collage von PANDORA
DTSTART:20260515T180000Z
DTEND:20260515T180000Z
END:VEVENT
END:VCALENDAR