BEGIN:VCALENDAR
VERSION:2.0
PRODID:spatie/icalendar-generator
BEGIN:VTIMEZONE
TZID:UTC
BEGIN:STANDARD
DTSTART:20250724T085741
TZOFFSETFROM:+0000
TZOFFSETTO:+0000
END:STANDARD
END:VTIMEZONE
BEGIN:VEVENT
UID:69e5ea85af777
DTSTAMP:20260420T085741Z
SUMMARY:Ste-Je-Ro!!! Wild 60s Garage Party!!!
DTSTART:20260430T180000Z
DTEND:20260430T230000Z
END:VEVENT
END:VCALENDAR