BEGIN:VCALENDAR
VERSION:2.0
PRODID:spatie/icalendar-generator
BEGIN:VTIMEZONE
TZID:UTC
BEGIN:STANDARD
DTSTART:20250724T085725
TZOFFSETFROM:+0000
TZOFFSETTO:+0000
END:STANDARD
END:VTIMEZONE
BEGIN:VEVENT
UID:69e5ea752b27e
DTSTAMP:20260420T085725Z
SUMMARY:Leonardo da Vinci – Erfindungen erleben
DTSTART:20270228T100000Z
DTEND:20270228T100000Z
END:VEVENT
END:VCALENDAR