BEGIN:VCALENDAR
VERSION:2.0
PRODID:spatie/icalendar-generator
BEGIN:VTIMEZONE
TZID:UTC
BEGIN:STANDARD
DTSTART:20250724T091547
TZOFFSETFROM:+0000
TZOFFSETTO:+0000
END:STANDARD
END:VTIMEZONE
BEGIN:VEVENT
UID:69e5eec3c7939
DTSTAMP:20260420T091547Z
SUMMARY:Leonardo da Vinci – Erfindungen erleben
DTSTART:20270227T100000Z
DTEND:20270227T100000Z
END:VEVENT
END:VCALENDAR