BEGIN:VCALENDAR
VERSION:2.0
PRODID:spatie/icalendar-generator
BEGIN:VTIMEZONE
TZID:UTC
BEGIN:STANDARD
DTSTART:20250724T104340
TZOFFSETFROM:+0000
TZOFFSETTO:+0000
END:STANDARD
END:VTIMEZONE
BEGIN:VEVENT
UID:69e6035cb28c0
DTSTAMP:20260420T104340Z
SUMMARY:Leonardo da Vinci – Erfindungen erleben
DTSTART:20270122T100000Z
DTEND:20270122T100000Z
END:VEVENT
END:VCALENDAR