BEGIN:VCALENDAR
VERSION:2.0
PRODID:spatie/icalendar-generator
BEGIN:VTIMEZONE
TZID:UTC
BEGIN:STANDARD
DTSTART:20250725T013458
TZOFFSETFROM:+0000
TZOFFSETTO:+0000
END:STANDARD
END:VTIMEZONE
BEGIN:VEVENT
UID:69e6d442bac5f
DTSTAMP:20260421T013458Z
SUMMARY:Leonardo da Vinci – Erfindungen erleben
DTSTART:20270119T100000Z
DTEND:20270119T100000Z
END:VEVENT
END:VCALENDAR