BEGIN:VCALENDAR
VERSION:2.0
PRODID:spatie/icalendar-generator
BEGIN:VTIMEZONE
TZID:UTC
BEGIN:STANDARD
DTSTART:20250727T201359
TZOFFSETFROM:+0000
TZOFFSETTO:+0000
END:STANDARD
END:VTIMEZONE
BEGIN:VEVENT
UID:69ea7d878bf11
DTSTAMP:20260423T201359Z
SUMMARY:Leonardo da Vinci – Erfindungen erleben
DTSTART:20270110T100000Z
DTEND:20270110T100000Z
END:VEVENT
END:VCALENDAR