BEGIN:VCALENDAR
VERSION:2.0
PRODID:spatie/icalendar-generator
BEGIN:VTIMEZONE
TZID:UTC
BEGIN:STANDARD
DTSTART:20250726T003230
TZOFFSETFROM:+0000
TZOFFSETTO:+0000
END:STANDARD
END:VTIMEZONE
BEGIN:VEVENT
UID:69e8171ebcd79
DTSTAMP:20260422T003230Z
SUMMARY:Leonardo da Vinci – Erfindungen erleben
DTSTART:20270109T100000Z
DTEND:20270109T100000Z
END:VEVENT
END:VCALENDAR