BEGIN:VCALENDAR
VERSION:2.0
PRODID:spatie/icalendar-generator
BEGIN:VTIMEZONE
TZID:UTC
BEGIN:STANDARD
DTSTART:20250726T003322
TZOFFSETFROM:+0000
TZOFFSETTO:+0000
END:STANDARD
END:VTIMEZONE
BEGIN:VEVENT
UID:69e8175212b31
DTSTAMP:20260422T003322Z
SUMMARY:Leonardo da Vinci – Erfindungen erleben
DTSTART:20270101T100000Z
DTEND:20270101T100000Z
END:VEVENT
END:VCALENDAR