BEGIN:VCALENDAR
VERSION:2.0
PRODID:spatie/icalendar-generator
BEGIN:VTIMEZONE
TZID:UTC
BEGIN:STANDARD
DTSTART:20250727T214159
TZOFFSETFROM:+0000
TZOFFSETTO:+0000
END:STANDARD
END:VTIMEZONE
BEGIN:VEVENT
UID:69ea922723988
DTSTAMP:20260423T214159Z
SUMMARY:Leonardo da Vinci – Erfindungen erleben
DTSTART:20261211T100000Z
DTEND:20261211T100000Z
END:VEVENT
END:VCALENDAR