BEGIN:VCALENDAR
VERSION:2.0
PRODID:spatie/icalendar-generator
BEGIN:VTIMEZONE
TZID:UTC
BEGIN:STANDARD
DTSTART:20250727T231753
TZOFFSETFROM:+0000
TZOFFSETTO:+0000
END:STANDARD
END:VTIMEZONE
BEGIN:VEVENT
UID:69eaa8a1b1f1f
DTSTAMP:20260423T231753Z
SUMMARY:Leonardo da Vinci – Erfindungen erleben
DTSTART:20261125T100000Z
DTEND:20261125T100000Z
END:VEVENT
END:VCALENDAR