BEGIN:VCALENDAR
VERSION:2.0
PRODID:spatie/icalendar-generator
BEGIN:VTIMEZONE
TZID:UTC
BEGIN:STANDARD
DTSTART:20250726T040622
TZOFFSETFROM:+0000
TZOFFSETTO:+0000
END:STANDARD
END:VTIMEZONE
BEGIN:VEVENT
UID:69e8493e7216c
DTSTAMP:20260422T040622Z
SUMMARY:Leonardo da Vinci – Erfindungen erleben
DTSTART:20261108T100000Z
DTEND:20261108T100000Z
END:VEVENT
END:VCALENDAR